View In:
ArcGIS JavaScript
ArcGIS Online Map Viewer
ArcGIS Earth
ArcMap
View Footprint In:
ArcGIS Online Map Viewer
Service Description: AerialImagery/GrandForksOrtho2020
Name: AerialImagery/GrandForksOrtho2020
Description:
Single Fused Map Cache: false
Extent:
XMin: 2773460
YMin: 329885.5
XMax: 2828416
YMax: 377118.25
Spatial Reference: PROJCS["NAD_1983_North_Dakota_North",GEOGCS["GCS_NAD83_1986",DATUM["D_North_American_1983",SPHEROID["GRS_1980",6378137.0,298.257222101]],PRIMEM["Greenwich",0.0],UNIT["Degree",0.0174532925199433]],PROJECTION["Lambert_Conformal_Conic"],PARAMETER["false_easting",1968499.99999998],PARAMETER["false_northing",0.0],PARAMETER["central_meridian",-100.5],PARAMETER["standard_parallel_1",47.433333333333],PARAMETER["standard_parallel_2",48.733333333333],PARAMETER["latitude_of_origin",47.0],UNIT["US Survey Foot",0.3048006096012192]]
Initial Extent:
XMin: 2773460
YMin: 329885.5
XMax: 2828416
YMax: 377118.25
Spatial Reference: PROJCS["NAD_1983_North_Dakota_North",GEOGCS["GCS_NAD83_1986",DATUM["D_North_American_1983",SPHEROID["GRS_1980",6378137.0,298.257222101]],PRIMEM["Greenwich",0.0],UNIT["Degree",0.0174532925199433]],PROJECTION["Lambert_Conformal_Conic"],PARAMETER["false_easting",1968499.99999998],PARAMETER["false_northing",0.0],PARAMETER["central_meridian",-100.5],PARAMETER["standard_parallel_1",47.433333333333],PARAMETER["standard_parallel_2",48.733333333333],PARAMETER["latitude_of_origin",47.0],UNIT["US Survey Foot",0.3048006096012192]]
Full Extent:
XMin: 2773460
YMin: 329885.5
XMax: 2828416
YMax: 377118.25
Spatial Reference: PROJCS["NAD_1983_North_Dakota_North",GEOGCS["GCS_NAD83_1986",DATUM["D_North_American_1983",SPHEROID["GRS_1980",6378137.0,298.257222101]],PRIMEM["Greenwich",0.0],UNIT["Degree",0.0174532925199433]],PROJECTION["Lambert_Conformal_Conic"],PARAMETER["false_easting",1968499.99999998],PARAMETER["false_northing",0.0],PARAMETER["central_meridian",-100.5],PARAMETER["standard_parallel_1",47.433333333333],PARAMETER["standard_parallel_2",48.733333333333],PARAMETER["latitude_of_origin",47.0],UNIT["US Survey Foot",0.3048006096012192]]
Pixel Size X: 0.25
Pixel Size Y: 0.25
Band Count: 3
Pixel Type: U8
RasterFunction Infos: {"rasterFunctionInfos": [{
"name": "None",
"description": "",
"help": ""
}]}
Mensuration Capabilities: Basic
Has Histograms: true
Has Colormap: false
Has Multi Dimensions : false
Rendering Rule:
Min Scale: 0
Max Scale: 0
Copyright Text:
Service Data Type: esriImageServiceDataTypeRGB
Min Values: 39, 37, 0
Max Values: 255, 255, 255
Mean Values: 190.17533490938, 180.01851851852, 163.11505122143
Standard Deviation Values: 59.53723886484, 67.389643991264, 81.592508436959
Object ID Field:
Fields:
None
Default Mosaic Method: Center
Allowed Mosaic Methods:
SortField:
SortValue: null
Mosaic Operator: First
Default Compression Quality: 75
Default Resampling Method: Bilinear
Max Record Count: null
Max Image Height: 4100
Max Image Width: 15000
Max Download Image Count: null
Max Mosaic Image Count: null
Allow Raster Function: true
Allow Copy: true
Allow Analysis: true
Allow Compute TiePoints: false
Supports Statistics: false
Supports Advanced Queries: false
Use StandardizedQueries: true
Raster Type Infos:
Name: Raster Dataset
Description: Supports all ArcGIS Raster Datasets
Help:
Has Raster Attribute Table: false
Edit Fields Info: null
Ownership Based AccessControl For Rasters: null
Child Resources:
Info
Histograms
Statistics
Key Properties
Legend
Raster Function Infos
Supported Operations:
Export Image
Identify
Measure
Compute Histograms
Compute Statistics Histograms
Get Samples
Compute Class Statistics
Query Boundary
Compute Pixel Location
Compute Angles
Validate
Project