{
 "currentVersion": 10.91,
 "serviceDescription": "AerialImagery/GrandForksOrtho2020",
 "name": "AerialImagery/GrandForksOrtho2020",
 "description": "",
 "extent": {
  "xmin": 2773460,
  "ymin": 329885.5,
  "xmax": 2828416,
  "ymax": 377118.25,
  "spatialReference": {
   "wkt": "PROJCS[\"NAD_1983_North_Dakota_North\",GEOGCS[\"GCS_NAD83_1986\",DATUM[\"D_North_American_1983\",SPHEROID[\"GRS_1980\",6378137.0,298.257222101]],PRIMEM[\"Greenwich\",0.0],UNIT[\"Degree\",0.0174532925199433]],PROJECTION[\"Lambert_Conformal_Conic\"],PARAMETER[\"false_easting\",1968499.99999998],PARAMETER[\"false_northing\",0.0],PARAMETER[\"central_meridian\",-100.5],PARAMETER[\"standard_parallel_1\",47.433333333333],PARAMETER[\"standard_parallel_2\",48.733333333333],PARAMETER[\"latitude_of_origin\",47.0],UNIT[\"US Survey Foot\",0.3048006096012192]]"
  }
 },
 "initialExtent": {
  "xmin": 2773460,
  "ymin": 329885.5,
  "xmax": 2828416,
  "ymax": 377118.25,
  "spatialReference": {
   "wkt": "PROJCS[\"NAD_1983_North_Dakota_North\",GEOGCS[\"GCS_NAD83_1986\",DATUM[\"D_North_American_1983\",SPHEROID[\"GRS_1980\",6378137.0,298.257222101]],PRIMEM[\"Greenwich\",0.0],UNIT[\"Degree\",0.0174532925199433]],PROJECTION[\"Lambert_Conformal_Conic\"],PARAMETER[\"false_easting\",1968499.99999998],PARAMETER[\"false_northing\",0.0],PARAMETER[\"central_meridian\",-100.5],PARAMETER[\"standard_parallel_1\",47.433333333333],PARAMETER[\"standard_parallel_2\",48.733333333333],PARAMETER[\"latitude_of_origin\",47.0],UNIT[\"US Survey Foot\",0.3048006096012192]]"
  }
 },
 "fullExtent": {
  "xmin": 2773460,
  "ymin": 329885.5,
  "xmax": 2828416,
  "ymax": 377118.25,
  "spatialReference": {
   "wkt": "PROJCS[\"NAD_1983_North_Dakota_North\",GEOGCS[\"GCS_NAD83_1986\",DATUM[\"D_North_American_1983\",SPHEROID[\"GRS_1980\",6378137.0,298.257222101]],PRIMEM[\"Greenwich\",0.0],UNIT[\"Degree\",0.0174532925199433]],PROJECTION[\"Lambert_Conformal_Conic\"],PARAMETER[\"false_easting\",1968499.99999998],PARAMETER[\"false_northing\",0.0],PARAMETER[\"central_meridian\",-100.5],PARAMETER[\"standard_parallel_1\",47.433333333333],PARAMETER[\"standard_parallel_2\",48.733333333333],PARAMETER[\"latitude_of_origin\",47.0],UNIT[\"US Survey Foot\",0.3048006096012192]]"
  }
 },
 "hasMultidimensions": false,
 "pixelSizeX": 0.25,
 "pixelSizeY": 0.25,
 "datasetFormat": "MrSID",
 "uncompressedSize": 124594704432,
 "blockWidth": 1024,
 "blockHeight": 128,
 "compressionType": "Wavelet (MG3)",
 "bandNames": [
  "Band_1",
  "Band_2",
  "Band_3"
 ],
 "allowCopy": true,
 "allowAnalysis": true,
 "bandCount": 3,
 "pixelType": "U8",
 "minPixelSize": 0,
 "maxPixelSize": 0,
 "copyrightText": "",
 "serviceDataType": "esriImageServiceDataTypeRGB",
 "serviceSourceType": "esriImageServiceSourceTypeDataset",
 "minValues": [
  39,
  37,
  0
 ],
 "maxValues": [
  255,
  255,
  255
 ],
 "meanValues": [
  190.17533490938,
  180.01851851852,
  163.11505122143
 ],
 "stdvValues": [
  59.53723886484,
  67.389643991264,
  81.592508436959
 ],
 "objectIdField": "",
 "fields": [],
 "capabilities": "Image,Metadata,Mensuration",
 "defaultMosaicMethod": "Center",
 "allowedMosaicMethods": "",
 "sortField": "",
 "sortValue": null,
 "sortAscending": true,
 "mosaicOperator": "First",
 "defaultCompressionQuality": 75,
 "defaultResamplingMethod": "Bilinear",
 "maxImageHeight": 4100,
 "maxImageWidth": 15000,
 "allowRasterFunction": true,
 "rasterFunctionInfos": [
  {
   "name": "None",
   "description": "",
   "help": ""
  }
 ],
 "rasterTypeInfos": [
  {
   "name": "Raster Dataset",
   "description": "Supports all ArcGIS Raster Datasets",
   "help": ""
  }
 ],
 "mensurationCapabilities": "Basic",
 "hasHistograms": true,
 "hasColormap": false,
 "hasRasterAttributeTable": false,
 "minScale": 0,
 "maxScale": 0,
 "exportTilesAllowed": false,
 "supportsStatistics": false,
 "supportsAdvancedQueries": false,
 "editFieldsInfo": null,
 "ownershipBasedAccessControlForRasters": null,
 "allowComputeTiePoints": false,
 "useStandardizedQueries": true,
 "advancedQueryCapabilities": {
  "useStandardizedQueries": true,
  "supportsStatistics": false,
  "supportsOrderBy": false,
  "supportsDistinct": false,
  "supportsPagination": false
 },
 "spatialReference": {
  "wkt": "PROJCS[\"NAD_1983_North_Dakota_North\",GEOGCS[\"GCS_NAD83_1986\",DATUM[\"D_North_American_1983\",SPHEROID[\"GRS_1980\",6378137.0,298.257222101]],PRIMEM[\"Greenwich\",0.0],UNIT[\"Degree\",0.0174532925199433]],PROJECTION[\"Lambert_Conformal_Conic\"],PARAMETER[\"false_easting\",1968499.99999998],PARAMETER[\"false_northing\",0.0],PARAMETER[\"central_meridian\",-100.5],PARAMETER[\"standard_parallel_1\",47.433333333333],PARAMETER[\"standard_parallel_2\",48.733333333333],PARAMETER[\"latitude_of_origin\",47.0],UNIT[\"US Survey Foot\",0.3048006096012192]]"
 }
}
