View In:
ArcGIS JavaScript
ArcGIS Online Map Viewer
ArcGIS Earth
ArcMap
View Footprint In:
ArcGIS Online Map Viewer
Service Description: AerialImagery/GrandForksOrtho2017
Name: AerialImagery/GrandForksOrtho2017
Description:
Single Fused Map Cache: false
Extent:
XMin: 2773460
YMin: 329885.5
XMax: 2828416
YMax: 377118.25
Spatial Reference: PROJCS["NAD_1983_North_Dakota_North_ft",GEOGCS["GCS_North_American_1983",DATUM["D_North_American_1983",SPHEROID["GRS_1980",6378137.0,298.257222101]],PRIMEM["Greenwich",0.0],UNIT["Degree",0.0174532925199433]],PROJECTION["Lambert_Conformal_Conic"],PARAMETER["false_easting",1968500.0],PARAMETER["false_northing",0.0],PARAMETER["central_meridian",-100.5],PARAMETER["standard_parallel_1",47.43333333333333],PARAMETER["standard_parallel_2",48.73333333333333],PARAMETER["scale_factor",1.0],PARAMETER["latitude_of_origin",47.0],UNIT["Foot_US",0.3048006096012192]]
Initial Extent:
XMin: 2773460
YMin: 329885.5
XMax: 2828416
YMax: 377118.25
Spatial Reference: PROJCS["NAD_1983_North_Dakota_North_ft",GEOGCS["GCS_North_American_1983",DATUM["D_North_American_1983",SPHEROID["GRS_1980",6378137.0,298.257222101]],PRIMEM["Greenwich",0.0],UNIT["Degree",0.0174532925199433]],PROJECTION["Lambert_Conformal_Conic"],PARAMETER["false_easting",1968500.0],PARAMETER["false_northing",0.0],PARAMETER["central_meridian",-100.5],PARAMETER["standard_parallel_1",47.43333333333333],PARAMETER["standard_parallel_2",48.73333333333333],PARAMETER["scale_factor",1.0],PARAMETER["latitude_of_origin",47.0],UNIT["Foot_US",0.3048006096012192]]
Full Extent:
XMin: 2773460
YMin: 329885.5
XMax: 2828416
YMax: 377118.25
Spatial Reference: PROJCS["NAD_1983_North_Dakota_North_ft",GEOGCS["GCS_North_American_1983",DATUM["D_North_American_1983",SPHEROID["GRS_1980",6378137.0,298.257222101]],PRIMEM["Greenwich",0.0],UNIT["Degree",0.0174532925199433]],PROJECTION["Lambert_Conformal_Conic"],PARAMETER["false_easting",1968500.0],PARAMETER["false_northing",0.0],PARAMETER["central_meridian",-100.5],PARAMETER["standard_parallel_1",47.43333333333333],PARAMETER["standard_parallel_2",48.73333333333333],PARAMETER["scale_factor",1.0],PARAMETER["latitude_of_origin",47.0],UNIT["Foot_US",0.3048006096012192]]
Pixel Size X: 0.25
Pixel Size Y: 0.25
Band Count: 3
Pixel Type: U8
RasterFunction Infos: {"rasterFunctionInfos": [{
"name": "None",
"description": "",
"help": ""
}]}
Mensuration Capabilities: Basic
Has Histograms: true
Has Colormap: false
Has Multi Dimensions : false
Rendering Rule:
Min Scale: 0
Max Scale: 0
Copyright Text:
Service Data Type: esriImageServiceDataTypeRGB
Min Values: 39, 45, 0
Max Values: 255, 255, 255
Mean Values: 193.66666666667, 184.30102442868, 166.22773837667
Standard Deviation Values: 57.616781057404, 64.655186574928, 80.715423904694
Object ID Field:
Fields:
None
Default Mosaic Method: Center
Allowed Mosaic Methods:
SortField:
SortValue: null
Mosaic Operator: First
Default Compression Quality: 75
Default Resampling Method: Bilinear
Max Record Count: null
Max Image Height: 4100
Max Image Width: 15000
Max Download Image Count: null
Max Mosaic Image Count: null
Allow Raster Function: true
Allow Copy: true
Allow Analysis: true
Allow Compute TiePoints: false
Supports Statistics: false
Supports Advanced Queries: false
Use StandardizedQueries: true
Raster Type Infos:
Name: Raster Dataset
Description: Supports all ArcGIS Raster Datasets
Help:
Has Raster Attribute Table: false
Edit Fields Info: null
Ownership Based AccessControl For Rasters: null
Child Resources:
Info
Histograms
Statistics
Key Properties
Legend
Raster Function Infos
Supported Operations:
Export Image
Identify
Measure
Compute Histograms
Compute Statistics Histograms
Get Samples
Compute Class Statistics
Query Boundary
Compute Pixel Location
Compute Angles
Validate
Project